{"text_format":"1","workbook":"xlsx","n_sheets":5,"sheets":["INSTRUÇÕES","DADOS DE ENTRADA","CUSTOS","TARIFA","IMPRESSAO"],"not_rendered":{"charts":6,"images":0,"macros":1,"external_links":0,"defined_names":1,"comments":0,"pivot_tables":0},"unopened":[],"bounds":{"document_bytes":16777216,"sheet_cells":100000,"rows_first":2000,"rows_last":500,"rows_between":2000,"halvings":0,"cell_chars":16384,"cell_head_chars":4096},"cells_cut":0,"cells_raw":0,"read":"whole","date_system":"1900"}

{"sheet":"INSTRUÇÕES","index":0,"n_rows":21,"n_cols":18,"rows_kept":21,"cut":false,"hidden":false,"merged":[[18,13,21,16],[18,17,21,17],[10,2,10,4],[1,1,8,17]]}
[]
[null,"Planilha NEC para Custo Médio de Capital"]
[]
[]
[]
[]
[]
[]
[]
[]
[null,null,"INFORMAÇÕES IMPORTANTES"]
[null,null,"1. ESTA PLANILHA REFERE-SE AO MÉTODO NEC DE CÁLCULO DOS CUSTOS E DA TARIFA DO TRANSPORTE PÚBLICO URBANO"]
[null,null,"2. OS VALORES SÃO CALCULADOS AUTOMATICAMENTE, SÓ É NECESSÁRIO INFORMAR OS DADOS CONFORME O PROGRAMA SOLICITAR"]
[null,null,"3. AO INICIAR O PROGRAMA TENHA EM MÃOS TODOS OS DADOS COM AS UNIDADES EM ACORDO COM O SOLICITADO"]
[null,null,"4. AO FINAL SERÃO EXIBIDOS OS VALORES DOS CUSTOS E DA TARIFA"]
[null,null,"5. UTILIZE APENAS VÍRGULAS PARA SEPARAR AS CASAS DECIMAIS"]
[null,null,"6. PARA IMPRIMIR BASTA CLICAR NO BOTÃO GERAR PDF NA ABA TARIFA E UMA CÓPIA SERÁ GERADA NA PASTA DOCUMENTOS"]
[]
[null,null,"Empresa/Cidade:","NEC / NEC ",null,null,null,null,null,null,null,null,null,"Elaborada por Helder Vasconcelos Alves",null,null,null,"2024-02-01"]
[]
[null,null,"Data Referência:","2024-03-01"]

{"sheet":"DADOS DE ENTRADA","index":1,"n_rows":87,"n_cols":18,"rows_kept":87,"cut":false,"hidden":false,"merged":[[1,1,1,2],[79,2,79,3],[54,1,54,3],[64,1,64,3],[69,1,69,3],[58,1,58,3],[59,1,59,3],[39,1,39,2],[3,1,3,2],[10,1,10,2],[15,1,15,2],[24,1,24,3],[30,1,30,2]]}
[]
[null,"DADOS DE ENTRADA"]
[]
[null,"1. COMBUSTÍVEL"]
[]
["1.1","CON",0.2,"l/Km","CONSUMO DE COMBUSTÍVEL"]
["1.2","PCO",5,"R$/l","PREÇO DO COMBUSTÍVEL"]
["1.3","QME",50000,"Km/mês","QUILOMETRAGEM MENSAL PERCORRIDA PELA FROTA"]
[]
[]
[null,"2. LUBRIFICANTES"]
[]
["2.1","FLU",0.05,null,"FATOR LUBRIFICANTES"]
[]
[]
[null,"3. RODAGEM"]
[]
["3.1","PPN",2000,"R$/pneu","PREÇO DO PNEU"]
["3.2","PRE",500,"R$/reforma","PREÇO DA REFORMA"]
["3.3","NRE",2,"reformas/pneu","NÚMERO DE REFORMAS",null,null,null,"VUT",{"$f":"HLOOKUP(C33,H24:N42,2)","v":8}]
["3.4","NPN",6,"pneus/ônibus","NÚMERO DE PNEUS",null,null,null,"VRE",{"$f":"HLOOKUP(C33,H24:N42,3)","v":0.15}]
["3.5","DPN",100000,"Km/pneu","DURAÇÃO TOTAL DE PNEUS",null,null,null,"VOU",{"$f":"HLOOKUP(C33,H24:N42,C34+4)","v":1},null,null,null,null,null,0,0,22500000]
[]
[null,null,null,null,null,0,null,"Tipo de onibus",1,2,3,4,5,6]
[null,"4. PEÇAS E ACESSÓRIOS",null,null,null,0,null,"VUT",5,6,8,10,12,15]
[null,null,null,null,null,0,null,"VRE",0.2,0.15,0.15,0.1,0.05,0.05]
["4.1","FPA",0.1,null,"FATOR PEÇAS E ACESSÓRIOS",7.0000000000000007E-2,null,"VOU0",1,1,1,1,1,1]
["4.2","VON",500000,"R$/ônibus","VALOR DO ÔNIBUS NOVO",null,null,"VOU1",0.73299999999999998,0.75700000000000001,0.81100000000000005,0.83599999999999997,0.85399999999999998,0.88100000000000001]
[null,null,null,null,null,null,null,"VOU2",0.52,0.55500000000000005,0.64600000000000002,0.68899999999999995,0.72,0.77]
[null,null,null,null,null,null,null,"VOU3",0.36,0.39300000000000002,0.504,0.55800000000000005,0.59799999999999998,0.66700000000000004]
[null,"5. CAPITAL",null,null,null,null,null,"VOU4",0.253,0.21099999999999999,0.38600000000000001,0.443,0.48799999999999999,0.57199999999999995]
[null,null,null,null,null,null,null,"VOU5",0.2,0.19,0.29199999999999998,0.34499999999999997,0.39100000000000001,0.48499999999999999]
["5.1","TDO",3,null,"TIPO DE ÔNIBUS",null,null,"VOU6",null,0.15,0.221,0.26300000000000001,0.30599999999999999,0.40600000000000003]
["5.2","IO",0,"anos","IDADE DO ÔNIBUS",null,null,"VOU7",null,null,0.17399999999999999,0.19800000000000001,0.23300000000000001,0.33500000000000002]
["5.3","TRE",10,"% ao ano","TAXA DE REMUNERAÇÃO",null,null,"VOU8",null,null,0.15,0.14899999999999999,0.17199999999999999,0.27200000000000002]
["5.4","NOF",10,"unid","NÚMERO DE ÔNIBUS NA FROTA",null,null,"VOU9",null,null,null,0.11600000000000001,0.123,0.217]
["5.5","VONb",700000,"R$/ônibus","VALOR DO ÔNIBUS NOVO BÁSICO"]
[null,null,null,null,null,null,null,"VOU11",null,null,null,null,6.2E-2,0.129]
[null,null,null,null,null,null,null,"VOU12",null,null,null,null,0.05,9.7000000000000003E-2]
[null,"6. PESSOAL",null,null,null,null,null,"VOU13",null,null,null,null,null,7.2999999999999995E-2]
[null,null,null,null,null,null,null,"VOU14",null,null,null,null,null,5.7000000000000002E-2]
["6.1","SMO",2000,"R$/mês","SALÁRIO MENSAL DOS MOTORISTAS",null,null,"VOU15",null,null,null,null,null,0.05]
["6.2","IMO",2.5,"motoristas/ônibus","ÍNDICE DE MOTORISTAS POR ÔNIBUS EM OPERAÇÃO NO PICO"]
["6.3","SCO",null,"R$/mês","SALÁRIO MENSAL DOS COBRADORES"]
["6.4","ICO",null,"cobradores/ônibus","ÍNDICE DE COBRADORES POR ÔNIBUS EM OPERAÇÃO  NO PICO"]
["6.5","SFD",2000,"R$/mês","SALÁRIO MENSAL DOS FISCAIS/DESPACHANTES"]
["6.6","IFD",0.2,"fiscais/ônibus","ÍNDICE DE FISCAIS/DESPACHANTES POR ÔNIBUS EM OPERAÇÃO  NO PICO"]
["6.7","ESO",40,"%","ENCARGOS SOCIAIS"]
["6.8","FMA",0.15,null,"FATOR PESSOAL DE MANUTENÇÃO"]
["6.9","FAD",0.15,null,"FATOR PESSOAL DE ADMINISTRAÇÃO"]
["6.11","NOP",9,"unid","NÚMERO DE ÔNIBUS EM OPERAÇÃO NO PICO"]
["6.11","BEN",30000,"R$/mês","VALOR TOTAL MENSAL DOS BENEFÍCIOS"]
[]
[]
[null,"7. ADMINISTRAÇÃO"]
[]
["7.1","FDA",5.0000000000000001E-3,null,"FATOR DESPESAS ADMINISTRATIVAS"]
[]
[]
[null,"8. TRIBUTOS"]
[]
["8.1","TTR",3,"%","TAXA DE TRIBUTOS"]
[]
[]
[null,"9. SUBSÍDIO"]
[]
["9.1","VSM",null,"R$/mês","VALOR DO SUBSÍDIO MENSAL"]
[]
[]
[null,"10. PASSAGEIROS"]
[]
["10.1","PMT",100000,"passageiros","NÚMERO MENSAL TOTAL DE PASSAGEIROS"]
[]
["10.2","PPI",100,"%","% DE PASSAGEIROS QUE PAGAM A TARIFA INTEGRAL"]
["10.3","PPA",0,"%",{"$f":"CONCATENATE($E$86,C81,$E$87)","v":"% DE PASSAGEIROS QUE PAGAM % DA TARIFA"}]
["10.4","PPB",0,"%",{"$f":"CONCATENATE($E$86,C82,$E$87)","v":"% DE PASSAGEIROS QUE PAGAM % DA TARIFA"}]
["10.5","PPC",0,"%",{"$f":"CONCATENATE($E$86,C83,$E$87)","v":"% DE PASSAGEIROS QUE PAGAM % DA TARIFA"}]
["10.6","PPD",0,"%",{"$f":"CONCATENATE($E$86,C84,$E$87)","v":"% DE PASSAGEIROS QUE PAGAM % DA TARIFA"}]
[]
[null,null,"% DA TARIFA INTEGRAL"]
["10.7","A",null,"%"," A% DA TARIFA INTEGRAL"]
["10.8","B",null,"%"," B% DA TARIFA INTEGRAL"]
["10.9","C",null,"%"," C% DA TARIFA INTEGRAL"]
["10.10","D",null,"%"," D% DA TARIFA INTEGRAL"]
[]
[null,null,null,null,"% DE PASSAGEIROS QUE PAGAM "]
[null,null,null,null,"% DA TARIFA"]

{"sheet":"CUSTOS","index":2,"n_rows":39,"n_cols":10,"rows_kept":39,"cut":false,"hidden":false,"merged":[[34,1,34,7],[23,1,23,2],[27,1,27,2],[31,1,31,2],[1,8,1,10],[2,1,2,2],[6,1,6,2],[10,1,10,2],[19,1,19,2],[14,1,14,2],[1,1,1,7],[18,1,18,7]]}
[]
[null,"CUSTOS VARIÁVEIS",null,null,null,null,null,null,"% em relação ao total"]
[null,"1. COMBUSTÍVEL"]
[null,"COM",50000,"R$/mês","CUSTO MENSAL DE COMBUSTÍVEL",null,null,null,null,{"$f":"C4/$C$36","v":0.15208402643680197}]
[]
[]
[null,"2. LUBRIFICANTES"]
[null,"LUB",2500,"R$/mês","CUSTO MENSAL DE LUBRIFICANTES",null,null,null,null,{"$f":"C8/$C$36","v":7.6042013218400985E-3}]
[]
[]
[null,"3. RODAGEM"]
[null,"ROD",9000,"R$/mês","CUSTO MENSAL DE RODAGEM",null,null,null,null,{"$f":"C12/$C$36","v":2.7375124758624355E-2}]
[]
[]
[null,"4. PEÇAS E ACESSÓRIOS"]
[null,"PEA",25000,"R$/mês","CUSTO MENSAL DE PEÇAS E ACESSÓRIOS",null,null,null,null,{"$f":"C16/$C$36","v":7.6042013218400983E-2}]
[]
[]
[null,"CUSTOS FIXOS"]
[null,"5. CAPITAL"]
[null,"CAP",77419.756224413053,"R$/mês","CUSTO MENSAL DE CAPITAL",null,null,null,null,{"$f":"C21/$C$36","v":0.23548616504728795}]
[]
[]
[null,"6. PESSOAL"]
[null,"PES",119982.9,"R$/mês","CUSTO MENSAL DE PESSOAL",null,null,null,null,{"$f":"C25/$C$36","v":0.36494965071128332}]
[]
[]
[null,"7. ADMINISTRAÇÃO"]
[null,"ADM",35000,"R$/mês","CUSTO MENSAL DE DESPESAS ADMINISTRATIVAS",null,null,null,null,{"$f":"C29/$C$36","v":0.10645881850576137}]
[]
[]
[null,"8. TRIBUTOS"]
[null,"TRI",9862.9687492086505,"R$/mês","CUSTO MENSAL DE TRIBUTOS",null,null,null,null,{"$f":"C33/$C$36","v":0.03}]
[]
[null,"CUSTOS"]
[null,"CME",328765.62497362169,"R$/mês","CUSTO MENSAL TOTAL"]
[null,"CPQ",6.5753124994724335,"R$/km","CUSTO POR QUILÔMETRO"]
[null,"VSM",0,"R$/mês","VALOR DO SUBSÍDIO MENSAL"]
[null,"CMP",328765.62497362169,"R$/mês","CUSTO MENSAL PARA OS PASSAGEIROS"]

{"sheet":"TARIFA","index":3,"n_rows":30,"n_cols":11,"rows_kept":30,"cut":false,"hidden":false,"merged":[[22,2,23,2],[22,3,23,4],[22,5,23,6],[19,2,20,5],[1,1,1,2],[13,1,14,1],[13,2,14,2],[13,3,14,3],[13,4,14,9],[26,3,26,4],[29,3,29,4],[25,3,25,4],[25,5,25,6],[27,5,27,6],[29,5,29,6],[26,5,26,6],[28,5,28,6],[27,3,27,4],[28,3,28,4]]}
[]
[null," TARIFA",null,null,null,null,null,"CUSTO VARIÁVEL","CUSTO FIXO"]
[null,null,null,null,null,null,null,0.73689463426433255,0.2631053657356674]
[null,"CME",328765.62497362169,"R$/mês","CUSTO MENSAL TOTAL"]
[null,"VSM",0,"R$/mês","SUBSÍDIO"]
[null,"CMP",328765.62497362169,"R$/mês","CUSTO MENSAL PARA OS PASSAGEIROS"]
[null,"CPQ",6.5753124994724335,"R$/km","CUSTO POR QUILÔMETRO"]
[]
[null,"PME",100000,"passageiros","NÚMERO MENSAL DE PASSAGEIROS EQUIVALENTES"]
[]
[null,"IPKt",2,"pass/km","ÍNDICE DE PASSAGEIROS POR QUILÔMETRO TOTAL"]
[null,"IPKe",2,"pass/km","ÍNDICE DE PASSAGEIROS POR QUILÔMETRO EQUIVALENTE"]
[]
[null,"TARIFA PÚBLICA",3.2876562497362167,"R$/pass"]
[]
[]
[null,"TARIFA TÉCNICA",3.2876562497362167,"R$/pass",null,"INTEGRAL","% DA TARIFA","% DA TARIFA","% DA TARIFA","% DA TARIFA"]
[null,"SUBSÍDIO UNITÁRIO",0,"R$/pass",null,10000000,0,0,0,0]
[]
[null,null,"VALOR DA TARIFA EQUIVALENTE"]
[]
[null,null,null,null,null,null,null,null,null,{"$f":"CUSTOS!B4","v":"COM"},0.15208402643680197]
[null,null,"VALOR NORMAL","VALOR SE TODOS PAGASSEM",null,"DIFERENÇA ENTRE TARIFAS",null,null,null,{"$f":"CUSTOS!B8","v":"LUB"},7.6042013218400985E-3]
[null,null,null,null,null,null,null,null,null,{"$f":"CUSTOS!B12","v":"ROD"},2.7375124758624355E-2]
[null,null,null,null,null,null,null,null,null,{"$f":"CUSTOS!B16","v":"PEA"},7.6042013218400983E-2]
[null,"TARIFA INTEGRAL",3.2876562497362167,3.29,null,0,null,null,null,{"$f":"CUSTOS!B21","v":"CAP"},0.23548616504728795]
[null,{"$f":"G17","v":"% DA TARIFA"},0,null,null,0,null,null,null,{"$f":"CUSTOS!B25","v":"PES"},0.36494965071128332]
[null,{"$f":"H17","v":"% DA TARIFA"},0,3.29,null,-3.29,null,null,null,{"$f":"CUSTOS!B29","v":"ADM"},0.10645881850576137]
[null,{"$f":"I17","v":"% DA TARIFA"},0,null,null,0,null,null,null,{"$f":"CUSTOS!B33","v":"TRI"},0.03]
[null,{"$f":"J17","v":"% DA TARIFA"},0,3.29,null,-3.29]

{"sheet":"IMPRESSAO","index":4,"n_rows":158,"n_cols":11,"rows_kept":158,"cut":false,"hidden":true,"merged":[[105,1,105,7],[111,1,111,7],[103,1,103,11],[5,2,5,3],[5,10,5,11],[93,3,93,4],[94,3,94,4],[95,3,95,4],[96,3,96,4],[97,3,97,4],[99,3,99,4],[98,3,98,4],[87,3,87,4],[88,3,88,4],[89,3,89,4],[90,3,90,4],[91,3,91,4],[92,3,92,4],[86,3,86,4],[79,1,79,2],[80,1,80,2],[84,1,84,2],[85,1,85,2],[81,3,81,4],[82,3,82,4],[83,3,83,4],[74,1,74,2],[75,1,75,2],[76,3,76,4],[77,3,77,4],[69,1,69,2],[70,1,70,2],[71,3,71,4],[72,3,72,4],[78,3,78,4],[73,3,73,4],[56,3,56,4],[57,3,57,4],[58,3,58,4],[59,3,59,4],[60,3,60,4],[61,3,61,4],[62,3,62,4],[55,3,55,4],[42,1,42,2],[43,3,43,4],[44,3,44,4],[45,3,45,4],[46,3,46,4],[47,3,47,4],[50,1,50,2],[51,1,51,2],[52,3,52,4],[53,3,53,4],[54,3,54,4],[41,1,41,2],[26,3,26,4],[27,3,27,4],[28,3,28,4],[31,3,31,4],[35,1,35,2],[36,1,36,2],[37,3,37,4],[38,3,38,4],[39,3,39,4],[40,3,40,4],[25,3,25,4],[16,1,16,2],[17,1,17,2],[18,3,18,4],[18,9,18,10],[19,3,19,4],[20,3,20,4],[21,1,21,2],[22,1,22,2],[23,3,23,4],[23,9,23,10],[24,3,24,4],[14,1,14,2],[1,1,3,11],[7,1,7,11],[11,3,11,4],[12,3,12,4],[13,3,13,4],[11,9,11,10],[9,1,9,2],[10,1,10,2],[150,1,151,4],[131,1,131,11],[143,1,144,1],[143,2,144,2],[143,3,144,3],[143,4,144,9]]}
[]
[null,"Planilha NEC para Custo Médio de Capital"]
[]
[]
[]
[null,"Empresa/Cidade:",{"$f":"INSTRUÇÕES!D19","v":"NEC / NEC "},null,null,null,null,null,"Data Referência:",null,{"$f":"INSTRUÇÕES!D21","v":"2024-03-01"}]
[]
[null,"DADOS DE ENTRADA"]
[]
[null,{"$f":"'DADOS DE ENTRADA'!B4","v":"1. COMBUSTÍVEL"}]
[]
[null,{"$f":"'DADOS DE ENTRADA'!B6","v":"CON"},{"$f":"'DADOS DE ENTRADA'!C6","v":0.2},{"$f":"'DADOS DE ENTRADA'!D6","v":"l/Km"},null,{"$f":"'DADOS DE ENTRADA'!E6","v":"CONSUMO DE COMBUSTÍVEL"}]
[null,{"$f":"'DADOS DE ENTRADA'!B7","v":"PCO"},{"$f":"'DADOS DE ENTRADA'!C7","v":5},{"$f":"'DADOS DE ENTRADA'!D7","v":"R$/l"},null,{"$f":"'DADOS DE ENTRADA'!E7","v":"PREÇO DO COMBUSTÍVEL"}]
[null,{"$f":"'DADOS DE ENTRADA'!B8","v":"QME"},{"$f":"'DADOS DE ENTRADA'!C8","v":50000},{"$f":"'DADOS DE ENTRADA'!D8","v":"Km/mês"},null,{"$f":"'DADOS DE ENTRADA'!E8","v":"QUILOMETRAGEM MENSAL PERCORRIDA PELA FROTA"}]
[]
[]
[null,{"$f":"'DADOS DE ENTRADA'!B11","v":"2. LUBRIFICANTES"}]
[]
[null,{"$f":"'DADOS DE ENTRADA'!B13","v":"FLU"},{"$f":"'DADOS DE ENTRADA'!C13","v":0.05},null,null,{"$f":"'DADOS DE ENTRADA'!E13","v":"FATOR LUBRIFICANTES"}]
[]
[]
[null,{"$f":"'DADOS DE ENTRADA'!B16","v":"3. RODAGEM"}]
[]
[null,{"$f":"'DADOS DE ENTRADA'!B18","v":"PPN"},{"$f":"'DADOS DE ENTRADA'!C18","v":2000},{"$f":"'DADOS DE ENTRADA'!D18","v":"R$/pneu"},null,{"$f":"'DADOS DE ENTRADA'!E18","v":"PREÇO DO PNEU"}]
[null,{"$f":"'DADOS DE ENTRADA'!B19","v":"PRE"},{"$f":"'DADOS DE ENTRADA'!C19","v":500},{"$f":"'DADOS DE ENTRADA'!D19","v":"R$/reforma"},null,{"$f":"'DADOS DE ENTRADA'!E19","v":"PREÇO DA REFORMA"}]
[null,{"$f":"'DADOS DE ENTRADA'!B20","v":"NRE"},{"$f":"'DADOS DE ENTRADA'!C20","v":2},{"$f":"'DADOS DE ENTRADA'!D20","v":"reformas/pneu"},null,{"$f":"'DADOS DE ENTRADA'!E20","v":"NÚMERO DE REFORMAS"}]
[null,{"$f":"'DADOS DE ENTRADA'!B21","v":"NPN"},{"$f":"'DADOS DE ENTRADA'!C21","v":6},{"$f":"'DADOS DE ENTRADA'!D21","v":"pneus/ônibus"},null,{"$f":"'DADOS DE ENTRADA'!E21","v":"NÚMERO DE PNEUS"}]
[null,{"$f":"'DADOS DE ENTRADA'!B22","v":"DPN"},{"$f":"'DADOS DE ENTRADA'!C22","v":100000},{"$f":"'DADOS DE ENTRADA'!D22","v":"Km/pneu"},null,{"$f":"'DADOS DE ENTRADA'!E22","v":"DURAÇÃO TOTAL DE PNEUS"}]
[]
[]
[]
[]
[]
[]
[]
[null,{"$f":"'DADOS DE ENTRADA'!B25","v":"4. PEÇAS E ACESSÓRIOS"}]
[]
[null,{"$f":"'DADOS DE ENTRADA'!B27","v":"FPA"},{"$f":"'DADOS DE ENTRADA'!C27","v":0.1},null,null,{"$f":"'DADOS DE ENTRADA'!E27","v":"FATOR PEÇAS E ACESSÓRIOS"}]
[null,{"$f":"'DADOS DE ENTRADA'!B28","v":"VON"},{"$f":"'DADOS DE ENTRADA'!C28","v":500000},{"$f":"'DADOS DE ENTRADA'!D28","v":"R$/ônibus"},null,{"$f":"'DADOS DE ENTRADA'!E28","v":"VALOR DO ÔNIBUS NOVO"}]
[]
[]
[null,{"$f":"'DADOS DE ENTRADA'!B31","v":"5. CAPITAL"}]
[]
[null,{"$f":"'DADOS DE ENTRADA'!B33","v":"TDO"},{"$f":"'DADOS DE ENTRADA'!C33","v":3},null,null,{"$f":"'DADOS DE ENTRADA'!E33","v":"TIPO DE ÔNIBUS"}]
[null,{"$f":"'DADOS DE ENTRADA'!B34","v":"IO"},{"$f":"'DADOS DE ENTRADA'!C34","v":0},{"$f":"'DADOS DE ENTRADA'!D34","v":"anos"},null,{"$f":"'DADOS DE ENTRADA'!E34","v":"IDADE DO ÔNIBUS"}]
[null,{"$f":"'DADOS DE ENTRADA'!B35","v":"TRE"},{"$f":"'DADOS DE ENTRADA'!C35","v":10},{"$f":"'DADOS DE ENTRADA'!D35","v":"% ao ano"},null,{"$f":"'DADOS DE ENTRADA'!E35","v":"TAXA DE REMUNERAÇÃO"}]
[null,{"$f":"'DADOS DE ENTRADA'!B36","v":"NOF"},{"$f":"'DADOS DE ENTRADA'!C36","v":10},{"$f":"'DADOS DE ENTRADA'!D36","v":"unid"},null,{"$f":"'DADOS DE ENTRADA'!E36","v":"NÚMERO DE ÔNIBUS NA FROTA"}]
[null,{"$f":"'DADOS DE ENTRADA'!B37","v":"VONb"},{"$f":"'DADOS DE ENTRADA'!C37","v":700000},{"$f":"'DADOS DE ENTRADA'!D37","v":"R$/ônibus"},null,{"$f":"'DADOS DE ENTRADA'!E37","v":"VALOR DO ÔNIBUS NOVO BÁSICO"}]
[]
[]
[null,{"$f":"'DADOS DE ENTRADA'!B40","v":"6. PESSOAL"}]
[]
[null,{"$f":"'DADOS DE ENTRADA'!B42","v":"SMO"},{"$f":"'DADOS DE ENTRADA'!C42","v":2000},{"$f":"'DADOS DE ENTRADA'!D42","v":"R$/mês"},null,{"$f":"'DADOS DE ENTRADA'!E42","v":"SALÁRIO MENSAL DOS MOTORISTAS"}]
[null,{"$f":"'DADOS DE ENTRADA'!B43","v":"IMO"},{"$f":"'DADOS DE ENTRADA'!C43","v":2.5},{"$f":"'DADOS DE ENTRADA'!D43","v":"motoristas/ônibus"},null,{"$f":"'DADOS DE ENTRADA'!E43","v":"ÍNDICE DE MOTORISTAS POR ÔNIBUS EM OPERAÇÃO NO PICO"}]
[null,{"$f":"'DADOS DE ENTRADA'!B44","v":"SCO"},{"$f":"'DADOS DE ENTRADA'!C44","v":0},{"$f":"'DADOS DE ENTRADA'!D44","v":"R$/mês"},null,{"$f":"'DADOS DE ENTRADA'!E44","v":"SALÁRIO MENSAL DOS COBRADORES"}]
[null,{"$f":"'DADOS DE ENTRADA'!B45","v":"ICO"},{"$f":"'DADOS DE ENTRADA'!C45","v":0},{"$f":"'DADOS DE ENTRADA'!D45","v":"cobradores/ônibus"},null,{"$f":"'DADOS DE ENTRADA'!E45","v":"ÍNDICE DE COBRADORES POR ÔNIBUS EM OPERAÇÃO  NO PICO"}]
[null,{"$f":"'DADOS DE ENTRADA'!B46","v":"SFD"},{"$f":"'DADOS DE ENTRADA'!C46","v":2000},{"$f":"'DADOS DE ENTRADA'!D46","v":"R$/mês"},null,{"$f":"'DADOS DE ENTRADA'!E46","v":"SALÁRIO MENSAL DOS FISCAIS/DESPACHANTES"}]
[null,{"$f":"'DADOS DE ENTRADA'!B47","v":"IFD"},{"$f":"'DADOS DE ENTRADA'!C47","v":0.2},{"$f":"'DADOS DE ENTRADA'!D47","v":"fiscais/ônibus"},null,{"$f":"'DADOS DE ENTRADA'!E47","v":"ÍNDICE DE FISCAIS/DESPACHANTES POR ÔNIBUS EM OPERAÇÃO  NO PICO"}]
[null,{"$f":"'DADOS DE ENTRADA'!B48","v":"ESO"},{"$f":"'DADOS DE ENTRADA'!C48","v":40},{"$f":"'DADOS DE ENTRADA'!D48","v":"%"},null,{"$f":"'DADOS DE ENTRADA'!E48","v":"ENCARGOS SOCIAIS"}]
[null,{"$f":"'DADOS DE ENTRADA'!B49","v":"FMA"},{"$f":"'DADOS DE ENTRADA'!C49","v":0.15},null,null,{"$f":"'DADOS DE ENTRADA'!E49","v":"FATOR PESSOAL DE MANUTENÇÃO"}]
[null,{"$f":"'DADOS DE ENTRADA'!B50","v":"FAD"},{"$f":"'DADOS DE ENTRADA'!C50","v":0.15},null,null,{"$f":"'DADOS DE ENTRADA'!E50","v":"FATOR PESSOAL DE ADMINISTRAÇÃO"}]
[null,{"$f":"'DADOS DE ENTRADA'!B51","v":"NOP"},{"$f":"'DADOS DE ENTRADA'!C51","v":9},{"$f":"'DADOS DE ENTRADA'!D51","v":"unid"},null,{"$f":"'DADOS DE ENTRADA'!E51","v":"NÚMERO DE ÔNIBUS EM OPERAÇÃO NO PICO"}]
[null,{"$f":"'DADOS DE ENTRADA'!B52","v":"BEN"},{"$f":"'DADOS DE ENTRADA'!C52","v":30000},{"$f":"'DADOS DE ENTRADA'!D52","v":"R$/mês"},null,{"$f":"'DADOS DE ENTRADA'!E52","v":"VALOR TOTAL MENSAL DOS BENEFÍCIOS"}]
[]
[]
[]
[]
[]
[]
[null,{"$f":"'DADOS DE ENTRADA'!B55","v":"7. ADMINISTRAÇÃO"}]
[]
[null,{"$f":"'DADOS DE ENTRADA'!B57","v":"FDA"},{"$f":"'DADOS DE ENTRADA'!C57","v":5.0000000000000001E-3},null,null,{"$f":"'DADOS DE ENTRADA'!E57","v":"FATOR DESPESAS ADMINISTRATIVAS"}]
[]
[]
[null,{"$f":"'DADOS DE ENTRADA'!B60","v":"8. TRIBUTOS"}]
[]
[null,{"$f":"'DADOS DE ENTRADA'!B62","v":"TTR"},{"$f":"'DADOS DE ENTRADA'!C62","v":3},{"$f":"'DADOS DE ENTRADA'!D62","v":"%"},null,{"$f":"'DADOS DE ENTRADA'!E62","v":"TAXA DE TRIBUTOS"}]
[]
[]
[null,{"$f":"'DADOS DE ENTRADA'!B65","v":"9. SUBSÍDIO"}]
[]
[null,{"$f":"'DADOS DE ENTRADA'!B67","v":"VSM"},{"$f":"'DADOS DE ENTRADA'!C67","v":0},{"$f":"'DADOS DE ENTRADA'!D67","v":"R$/mês"},null,{"$f":"'DADOS DE ENTRADA'!E67","v":"VALOR DO SUBSÍDIO MENSAL"}]
[]
[]
[null,{"$f":"'DADOS DE ENTRADA'!B70","v":"10. PASSAGEIROS"}]
[]
[null,{"$f":"'DADOS DE ENTRADA'!B72","v":"PMT"},{"$f":"'DADOS DE ENTRADA'!C72","v":100000},{"$f":"'DADOS DE ENTRADA'!D72","v":"passageiros"},null,{"$f":"'DADOS DE ENTRADA'!E72","v":"NÚMERO MENSAL TOTAL DE PASSAGEIROS"}]
[]
[null,{"$f":"'DADOS DE ENTRADA'!B74","v":"PPI"},{"$f":"'DADOS DE ENTRADA'!C74","v":100},{"$f":"'DADOS DE ENTRADA'!D74","v":"%"},null,{"$f":"'DADOS DE ENTRADA'!E74","v":"% DE PASSAGEIROS QUE PAGAM A TARIFA INTEGRAL"}]
[null,{"$f":"'DADOS DE ENTRADA'!B75","v":"PPA"},{"$f":"'DADOS DE ENTRADA'!C75","v":0},{"$f":"'DADOS DE ENTRADA'!D75","v":"%"},null,{"$f":"'DADOS DE ENTRADA'!E75","v":"% DE PASSAGEIROS QUE PAGAM % DA TARIFA"}]
[null,{"$f":"'DADOS DE ENTRADA'!B76","v":"PPB"},{"$f":"'DADOS DE ENTRADA'!C76","v":0},{"$f":"'DADOS DE ENTRADA'!D76","v":"%"},null,{"$f":"'DADOS DE ENTRADA'!E76","v":"% DE PASSAGEIROS QUE PAGAM % DA TARIFA"}]
[null,{"$f":"'DADOS DE ENTRADA'!B77","v":"PPC"},{"$f":"'DADOS DE ENTRADA'!C77","v":0},{"$f":"'DADOS DE ENTRADA'!D77","v":"%"},null,{"$f":"'DADOS DE ENTRADA'!E77","v":"% DE PASSAGEIROS QUE PAGAM % DA TARIFA"}]
[null,{"$f":"'DADOS DE ENTRADA'!B78","v":"PPD"},{"$f":"'DADOS DE ENTRADA'!C78","v":0},{"$f":"'DADOS DE ENTRADA'!D78","v":"%"},null,{"$f":"'DADOS DE ENTRADA'!E78","v":"% DE PASSAGEIROS QUE PAGAM % DA TARIFA"}]
[]
[]
[null,{"$f":"'DADOS DE ENTRADA'!B81","v":"A"},{"$f":"'DADOS DE ENTRADA'!C81","v":0},{"$f":"'DADOS DE ENTRADA'!D81","v":"%"},null,{"$f":"'DADOS DE ENTRADA'!E81","v":" A% DA TARIFA INTEGRAL"}]
[null,{"$f":"'DADOS DE ENTRADA'!B82","v":"B"},{"$f":"'DADOS DE ENTRADA'!C82","v":0},{"$f":"'DADOS DE ENTRADA'!D82","v":"%"},null,{"$f":"'DADOS DE ENTRADA'!E82","v":" B% DA TARIFA INTEGRAL"}]
[null,{"$f":"'DADOS DE ENTRADA'!B83","v":"C"},{"$f":"'DADOS DE ENTRADA'!C83","v":0},{"$f":"'DADOS DE ENTRADA'!D83","v":"%"},null,{"$f":"'DADOS DE ENTRADA'!E83","v":" C% DA TARIFA INTEGRAL"}]
[null,{"$f":"'DADOS DE ENTRADA'!B84","v":"D"},{"$f":"'DADOS DE ENTRADA'!C84","v":0},{"$f":"'DADOS DE ENTRADA'!D84","v":"%"},null,{"$f":"'DADOS DE ENTRADA'!E84","v":" D% DA TARIFA INTEGRAL"}]
[]
[]
[]
[]
[null,"CUSTOS"]
[]
[null,{"$f":"CUSTOS!B2","v":"CUSTOS VARIÁVEIS"},null,null,null,null,null,null,null,null,{"$f":"CUSTOS!I2","v":"% em relação ao total"}]
[null,{"$f":"CUSTOS!B4","v":"COM"},{"$f":"CUSTOS!C4","v":50000},{"$f":"CUSTOS!D4","v":"R$/mês"},{"$f":"CUSTOS!E4","v":"CUSTO MENSAL DE COMBUSTÍVEL"},null,null,null,null,null,{"$f":"CUSTOS!J4","v":0.15208402643680197}]
[null,{"$f":"CUSTOS!B8","v":"LUB"},{"$f":"CUSTOS!C8","v":2500},{"$f":"CUSTOS!D8","v":"R$/mês"},{"$f":"CUSTOS!E8","v":"CUSTO MENSAL DE LUBRIFICANTES"},null,null,null,null,null,{"$f":"CUSTOS!J8","v":7.6042013218400985E-3}]
[null,{"$f":"CUSTOS!B12","v":"ROD"},{"$f":"CUSTOS!C12","v":9000},{"$f":"CUSTOS!D12","v":"R$/mês"},{"$f":"CUSTOS!E12","v":"CUSTO MENSAL DE RODAGEM"},null,null,null,null,null,{"$f":"CUSTOS!J12","v":2.7375124758624355E-2}]
[null,{"$f":"CUSTOS!B16","v":"PEA"},{"$f":"CUSTOS!C16","v":25000},{"$f":"CUSTOS!D16","v":"R$/mês"},{"$f":"CUSTOS!E16","v":"CUSTO MENSAL DE PEÇAS E ACESSÓRIOS"},null,null,null,null,null,{"$f":"CUSTOS!J16","v":7.6042013218400983E-2}]
[]
[null,"CUSTOS FIXOS"]
[null,{"$f":"CUSTOS!B21","v":"CAP"},{"$f":"CUSTOS!C21","v":77419.756224413053},{"$f":"CUSTOS!D21","v":"R$/mês"},{"$f":"CUSTOS!E21","v":"CUSTO MENSAL DE CAPITAL"},null,null,null,null,null,{"$f":"CUSTOS!J21","v":0.23548616504728795}]
[null,{"$f":"CUSTOS!B25","v":"PES"},{"$f":"CUSTOS!C25","v":119982.9},{"$f":"CUSTOS!D25","v":"R$/mês"},{"$f":"CUSTOS!E25","v":"CUSTO MENSAL DE PESSOAL"},null,null,null,null,null,{"$f":"CUSTOS!J25","v":0.36494965071128332}]
[null,{"$f":"CUSTOS!B29","v":"ADM"},{"$f":"CUSTOS!C29","v":35000},{"$f":"CUSTOS!D29","v":"R$/mês"},{"$f":"CUSTOS!E29","v":"CUSTO MENSAL DE DESPESAS ADMINISTRATIVAS"},null,null,null,null,null,{"$f":"CUSTOS!J29","v":0.10645881850576137}]
[null,{"$f":"CUSTOS!B33","v":"TRI"},{"$f":"CUSTOS!C33","v":9862.9687492086505},{"$f":"CUSTOS!D33","v":"R$/mês"},{"$f":"CUSTOS!E33","v":"CUSTO MENSAL DE TRIBUTOS"},null,null,null,null,null,{"$f":"CUSTOS!J33","v":0.03}]
[]
[]
[]
[]
[]
[]
[]
[]
[]
[]
[]
[]
[]
[]
[]
[null,"TARIFA"]
[]
[null,{"$f":"TARIFA!B4","v":"CME"},{"$f":"TARIFA!C4","v":328765.62497362169},{"$f":"TARIFA!D4","v":"R$/mês"},{"$f":"TARIFA!E4","v":"CUSTO MENSAL TOTAL"}]
[null,{"$f":"TARIFA!B5","v":"VSM"},{"$f":"TARIFA!C5","v":0},{"$f":"TARIFA!D5","v":"R$/mês"},{"$f":"TARIFA!E5","v":"SUBSÍDIO"}]
[null,{"$f":"TARIFA!B6","v":"CMP"},{"$f":"TARIFA!C6","v":328765.62497362169},{"$f":"TARIFA!D6","v":"R$/mês"},{"$f":"TARIFA!E6","v":"CUSTO MENSAL PARA OS PASSAGEIROS"}]
[null,"CPQ",{"$f":"TARIFA!C7","v":6.5753124994724335},{"$f":"TARIFA!D7","v":"R$/km"},{"$f":"TARIFA!E7","v":"CUSTO POR QUILÔMETRO"}]
[]
[null,{"$f":"TARIFA!B9","v":"PME"},{"$f":"TARIFA!C9","v":100000},{"$f":"TARIFA!D9","v":"passageiros"},{"$f":"TARIFA!E9","v":"NÚMERO MENSAL DE PASSAGEIROS EQUIVALENTES"}]
[]
[null,{"$f":"TARIFA!B11","v":"IPKt"},{"$f":"TARIFA!C11","v":2},{"$f":"TARIFA!D11","v":"pass/km"},{"$f":"TARIFA!E11","v":"ÍNDICE DE PASSAGEIROS POR QUILÔMETRO TOTAL"}]
[null,{"$f":"TARIFA!B12","v":"IPKe"},{"$f":"TARIFA!C12","v":2},{"$f":"TARIFA!D12","v":"pass/km"},{"$f":"TARIFA!E12","v":"ÍNDICE DE PASSAGEIROS POR QUILÔMETRO EQUIVALENTE"}]
[]
[null,{"$f":"TARIFA!B14","v":"TARIFA PÚBLICA"},{"$f":"TARIFA!C14","v":3.2876562497362167},{"$f":"TARIFA!D14","v":"R$/pass"}]
[]
[]
[null,{"$f":"TARIFA!B17","v":"TARIFA TÉCNICA"},{"$f":"TARIFA!C17","v":3.2876562497362167},{"$f":"TARIFA!D17","v":"R$/pass"}]
[null,{"$f":"TARIFA!B18","v":"SUBSÍDIO UNITÁRIO"},{"$f":"TARIFA!C18","v":0},{"$f":"TARIFA!D18","v":"R$/pass"}]
[]
[]
[null,{"$f":"TARIFA!C20","v":"VALOR DA TARIFA EQUIVALENTE"}]
[]
[null,null,{"$f":"TARIFA!C23","v":"VALOR NORMAL"},{"$f":"TARIFA!D23","v":"VALOR SE TODOS PAGASSEM"},{"$f":"TARIFA!F23","v":"DIFERENÇA ENTRE TARIFAS"}]
[null,{"$f":"TARIFA!B26","v":"TARIFA INTEGRAL"},{"$f":"TARIFA!C26","v":3.2876562497362167},{"$f":"TARIFA!D26","v":3.29},{"$f":"TARIFA!F26","v":0}]
[null,{"$f":"TARIFA!B27","v":"% DA TARIFA"},{"$f":"TARIFA!C27","v":0},{"$f":"TARIFA!D27","v":0},{"$f":"TARIFA!F27","v":0}]
[null,{"$f":"TARIFA!B28","v":"% DA TARIFA"},{"$f":"TARIFA!C28","v":0},{"$f":"TARIFA!D28","v":3.29},{"$f":"TARIFA!F28","v":-3.29}]
[null,{"$f":"TARIFA!B29","v":"% DA TARIFA"},{"$f":"TARIFA!C29","v":0},{"$f":"TARIFA!D29","v":0},{"$f":"TARIFA!F29","v":0}]
[null,{"$f":"TARIFA!B30","v":"% DA TARIFA"},{"$f":"TARIFA!C30","v":0},{"$f":"TARIFA!D30","v":3.29},{"$f":"TARIFA!F30","v":-3.29}]